﻿BEGIN:VCALENDAR
VERSION:1.0
BEGIN:VEVENT
DTSTART:20260604T180000Z
DTEND:20260604T235500Z
PRIORITY:3
SUMMARY;ENCODING=QUOTED-PRINTABLE:Scoutgården uthyrd: Chalmers lärarutbildning (LH)
DESCRIPTION;ENCODING=QUOTED-PRINTABLE:
END:VEVENT
END:VCALENDAR
